BEGIN:VCALENDAR
VERSION:2.0
PRODID:-//Plone.org//NONSGML plone.app.event//EN
X-WR-TIMEZONE:Europe/Rome
BEGIN:VEVENT
SUMMARY:Seminario Dr. Kasmaee: "Geostatistical estimation methods for ore 
 reserve evaluation"
DTSTART;TZID=Europe/Rome;VALUE=DATE-TIME:20190408T090000
DTEND;TZID=Europe/Rome;VALUE=DATE-TIME:20190408T110000
DTSTAMP;VALUE=DATE-TIME:20260424T193714Z
UID:674ea127098c4bbea30bff0a3ca34003@dicam.unibo.it
CREATED;VALUE=DATE-TIME:20190401T111434Z
LAST-MODIFIED;VALUE=DATE-TIME:20190401T111633Z
URL:https://dicam.unibo.it/it/eventi/seminario-dr.-kasmaee-geostatistical-
 estimation-methods-for-ore-reserve-evaluation
END:VEVENT
BEGIN:VTIMEZONE
TZID:Europe/Rome
X-LIC-LOCATION:Europe/Rome
BEGIN:DAYLIGHT
DTSTART;VALUE=DATE-TIME:20190331T030000
TZNAME:CEST
TZOFFSETFROM:+0100
TZOFFSETTO:+0200
END:DAYLIGHT
END:VTIMEZONE
END:VCALENDAR
