BEGIN:VCALENDAR
VERSION:2.0
PRODID:-//Plone.org//NONSGML plone.app.event//EN
X-WR-TIMEZONE:Europe/Rome
BEGIN:VEVENT
SUMMARY:Seminario Dr. Masoero: "Multiscale modelling of building materials
 : the nanoscale origin of shrinkage"
DTSTART;VALUE=DATE:20160331
DTEND;VALUE=DATE:20160401
DTSTAMP;VALUE=DATE-TIME:20260421T100141Z
UID:094755a128b14d3787610e21ed1f6220@dicam.unibo.it
CREATED;VALUE=DATE-TIME:20160322T105417Z
LAST-MODIFIED;VALUE=DATE-TIME:20160325T093836Z
URL:https://dicam.unibo.it/it/eventi/seminario-dr.-masoero-multiscale-mode
 lling-of-building-materials-the-nanoscale-origin-of-shrinkage
END:VEVENT
END:VCALENDAR
