BEGIN:VCALENDAR
VERSION:2.0
PRODID:-//Plone.org//NONSGML plone.app.event//EN
X-WR-TIMEZONE:Europe/Rome
BEGIN:VEVENT
SUMMARY:Seminario Dr. Mazzotta: " Rheology of bituminous materials: theory
  and practice with DSR"
DTSTART;VALUE=DATE:20160621
DTEND;VALUE=DATE:20160622
DTSTAMP;VALUE=DATE-TIME:20260421T100141Z
UID:56a48a08ffeb44ea8cda467268b86964@dicam.unibo.it
CREATED;VALUE=DATE-TIME:20160603T055847Z
LAST-MODIFIED;VALUE=DATE-TIME:20160603T055956Z
URL:https://dicam.unibo.it/it/eventi/seminario-dr.-mazzotta-rheology-of-bi
 tuminous-materials-theory-and-practice-with-dsr
END:VEVENT
END:VCALENDAR
