BEGIN:VCALENDAR
VERSION:2.0
PRODID:-//Plone.org//NONSGML plone.app.event//EN
X-WR-TIMEZONE:Europe/Rome
BEGIN:VEVENT
SUMMARY:Seminario Dr. Nicholas Fantuzzi: "Strong form finite elements: for
 mulation and applications"
DTSTART;TZID=Europe/Rome;VALUE=DATE-TIME:20150527T150000
DTEND;TZID=Europe/Rome;VALUE=DATE-TIME:20150527T180000
DTSTAMP;VALUE=DATE-TIME:20260422T135744Z
UID:983f73ca645e4c719d45adf07a0d51e3@dicam.unibo.it
CREATED;VALUE=DATE-TIME:20150525T052124Z
LAST-MODIFIED;VALUE=DATE-TIME:20150525T052204Z
URL:https://dicam.unibo.it/it/eventi/seminario-dr.-nicholas-fantuzzi-stron
 g-form-finite-elements-formulation-and-applications
END:VEVENT
BEGIN:VTIMEZONE
TZID:Europe/Rome
X-LIC-LOCATION:Europe/Rome
BEGIN:DAYLIGHT
DTSTART;VALUE=DATE-TIME:20150329T030000
TZNAME:CEST
TZOFFSETFROM:+0100
TZOFFSETTO:+0200
END:DAYLIGHT
END:VTIMEZONE
END:VCALENDAR
