BEGIN:VCALENDAR
VERSION:2.0
PRODID:-//Plone.org//NONSGML plone.app.event//EN
X-WR-TIMEZONE:Europe/Rome
BEGIN:VEVENT
SUMMARY:Seminario Dr. Nichols and Dr. Tomor: "Use of accelerometer technol
 ogy for identifying deterioration in structures"
DTSTART;TZID=Europe/Rome;VALUE=DATE-TIME:20150716T103000
DTEND;TZID=Europe/Rome;VALUE=DATE-TIME:20150716T123000
DTSTAMP;VALUE=DATE-TIME:20260421T080120Z
UID:443297fcad9c40b7a52a11aca6dcf357@dicam.unibo.it
CREATED;VALUE=DATE-TIME:20150708T045158Z
LAST-MODIFIED;VALUE=DATE-TIME:20150708T045307Z
URL:https://dicam.unibo.it/it/eventi/seminario-dr.-nichols-and-dr.-tomor-u
 se-of-accelerometer-technology-for-identifying-deterioration-in-structures
END:VEVENT
BEGIN:VTIMEZONE
TZID:Europe/Rome
X-LIC-LOCATION:Europe/Rome
BEGIN:DAYLIGHT
DTSTART;VALUE=DATE-TIME:20150329T030000
TZNAME:CEST
TZOFFSETFROM:+0100
TZOFFSETTO:+0200
END:DAYLIGHT
END:VTIMEZONE
END:VCALENDAR
