BEGIN:VCALENDAR
VERSION:2.0
PRODID:-//Plone.org//NONSGML plone.app.event//EN
X-WR-TIMEZONE:Europe/Rome
BEGIN:VEVENT
SUMMARY:Seminario Dr. Palermo: "Post-tensioned timber buildings in New Zea
 land: research\, design and implementation into real case studies"
DTSTART;VALUE=DATE:20160617
DTEND;VALUE=DATE:20160618
DTSTAMP;VALUE=DATE-TIME:20260421T100141Z
UID:421937fbd4eb4c97ba7d1ea816c09786@dicam.unibo.it
CREATED;VALUE=DATE-TIME:20160613T094443Z
LAST-MODIFIED;VALUE=DATE-TIME:20160613T094512Z
URL:https://dicam.unibo.it/it/eventi/seminario-dr.-palermo-post-tensioned-
 timber-buildings-in-new-zealand-research-design-and-implementation-into-re
 al-case-studies
END:VEVENT
END:VCALENDAR
