BEGIN:VCALENDAR
VERSION:2.0
PRODID:-//Plone.org//NONSGML plone.app.event//EN
X-WR-TIMEZONE:Europe/Rome
BEGIN:VEVENT
SUMMARY:Seminario Dr. Schildkamp: "Smart Shelter : Non-engineered Building
  Principles for Developing Countries"
DTSTART;TZID=Europe/Rome;VALUE=DATE-TIME:20160219T093000
DTEND;TZID=Europe/Rome;VALUE=DATE-TIME:20160219T130000
DTSTAMP;VALUE=DATE-TIME:20260421T093700Z
UID:d3ba94a3180e45158849b422eb74f752@dicam.unibo.it
CREATED;VALUE=DATE-TIME:20160205T092402Z
LAST-MODIFIED;VALUE=DATE-TIME:20160205T092435Z
URL:https://dicam.unibo.it/it/eventi/seminario-dr.-schildkamp-smart-shelte
 r-non-engineered-building-principles-for-developing-countries
END:VEVENT
BEGIN:VTIMEZONE
TZID:Europe/Rome
X-LIC-LOCATION:Europe/Rome
BEGIN:STANDARD
DTSTART;VALUE=DATE-TIME:20151025T020000
TZNAME:CET
TZOFFSETFROM:+0200
TZOFFSETTO:+0100
END:STANDARD
END:VTIMEZONE
END:VCALENDAR
