BEGIN:VCALENDAR
VERSION:2.0
PRODID:-//Plone.org//NONSGML plone.app.event//EN
X-WR-TIMEZONE:Europe/Rome
BEGIN:VEVENT
SUMMARY:Seminario Dr. Wendner: "Concrete creep in research and design"
DTSTART;VALUE=DATE:20160512
DTEND;VALUE=DATE:20160513
DTSTAMP;VALUE=DATE-TIME:20260421T094044Z
UID:b02855f030264a238c2d882ce2e39900@dicam.unibo.it
CREATED;VALUE=DATE-TIME:20160510T085254Z
LAST-MODIFIED;VALUE=DATE-TIME:20160510T085720Z
URL:https://dicam.unibo.it/it/eventi/seminario-dr.-wendner-concrete-creep-
 in-research-and-design
END:VEVENT
END:VCALENDAR
