BEGIN:VCALENDAR
VERSION:2.0
PRODID:-//Plone.org//NONSGML plone.app.event//EN
X-WR-TIMEZONE:Europe/Rome
BEGIN:VEVENT
SUMMARY:Seminario Ing. Franza: "The response of piled buildings to tunnell
 ing"
DTSTART;TZID=Europe/Rome;VALUE=DATE-TIME:20160414T170000
DTEND;TZID=Europe/Rome;VALUE=DATE-TIME:20160414T180000
DTSTAMP;VALUE=DATE-TIME:20260421T100141Z
UID:414c1259bddc44e3a34f187fabf9d41e@dicam.unibo.it
CREATED;VALUE=DATE-TIME:20160314T093700Z
LAST-MODIFIED;VALUE=DATE-TIME:20160314T093731Z
URL:https://dicam.unibo.it/it/eventi/seminario-ing.-franza-the-response-of
 -piled-buildings-to-tunnelling
END:VEVENT
BEGIN:VTIMEZONE
TZID:Europe/Rome
X-LIC-LOCATION:Europe/Rome
BEGIN:DAYLIGHT
DTSTART;VALUE=DATE-TIME:20160327T030000
TZNAME:CEST
TZOFFSETFROM:+0100
TZOFFSETTO:+0200
END:DAYLIGHT
END:VTIMEZONE
END:VCALENDAR
