BEGIN:VCALENDAR
VERSION:2.0
PRODID:-//Plone.org//NONSGML plone.app.event//EN
X-WR-TIMEZONE:Europe/Rome
BEGIN:VEVENT
SUMMARY:Seminario Ing. Rossi: "Economia Circolare e Sostenibilità: Recupe
 ro e Riciclo dei Materiali"
DTSTART;VALUE=DATE:20160518
DTEND;VALUE=DATE:20160519
DTSTAMP;VALUE=DATE-TIME:20260421T100141Z
UID:6826aad0c74c4c20b951aa628187d1db@dicam.unibo.it
CREATED;VALUE=DATE-TIME:20160512T084518Z
LAST-MODIFIED;VALUE=DATE-TIME:20160512T084552Z
URL:https://dicam.unibo.it/it/eventi/seminario-ing.-rossi-economia-circola
 re-e-sostenibilita-recupero-e-riciclo-dei-materiali
END:VEVENT
END:VCALENDAR
