BEGIN:VCALENDAR
VERSION:2.0
PRODID:-//Plone.org//NONSGML plone.app.event//EN
X-WR-TIMEZONE:Europe/Rome
BEGIN:VEVENT
SUMMARY:Seminario Prof. Stead: "Understanding large landslides using a com
 bined remote sensing-geomechanical modelling approach"
DTSTART;TZID=Europe/Rome;VALUE=DATE-TIME:20150616T180000
DTEND;TZID=Europe/Rome;VALUE=DATE-TIME:20150616T190000
DTSTAMP;VALUE=DATE-TIME:20260421T061120Z
UID:a15febbf060443a7b3d3c70bb19b38a1@dicam.unibo.it
CREATED;VALUE=DATE-TIME:20150615T081515Z
LAST-MODIFIED;VALUE=DATE-TIME:20150615T081633Z
URL:https://dicam.unibo.it/it/eventi/seminario-prof-stead-understanding-la
 rge-landslides-using-a-combined-remote-sensing-geomechanical-modelling-app
 roach
END:VEVENT
BEGIN:VTIMEZONE
TZID:Europe/Rome
X-LIC-LOCATION:Europe/Rome
BEGIN:DAYLIGHT
DTSTART;VALUE=DATE-TIME:20150329T030000
TZNAME:CEST
TZOFFSETFROM:+0100
TZOFFSETTO:+0200
END:DAYLIGHT
END:VTIMEZONE
END:VCALENDAR
