BEGIN:VCALENDAR
VERSION:2.0
PRODID:-//Plone.org//NONSGML plone.app.event//EN
X-WR-TIMEZONE:Europe/Rome
BEGIN:VEVENT
SUMMARY:Seminario Prof. Buzzi: "Fundamentals of unsaturated soil mechanics
  and recent experimental developments"
DTSTART;TZID=Europe/Rome;VALUE=DATE-TIME:20160526T110000
DTEND;TZID=Europe/Rome;VALUE=DATE-TIME:20160526T130000
DTSTAMP;VALUE=DATE-TIME:20260421T094009Z
UID:e3b17356a9b247a5a1228c6fe14cdc6f@dicam.unibo.it
CREATED;VALUE=DATE-TIME:20160516T112517Z
LAST-MODIFIED;VALUE=DATE-TIME:20160516T112545Z
URL:https://dicam.unibo.it/it/eventi/seminario-prof.-buzzi-fundamentals-of
 -unsaturated-soil-mechanics-and-recent-experimental-developments
END:VEVENT
BEGIN:VTIMEZONE
TZID:Europe/Rome
X-LIC-LOCATION:Europe/Rome
BEGIN:DAYLIGHT
DTSTART;VALUE=DATE-TIME:20160327T030000
TZNAME:CEST
TZOFFSETFROM:+0100
TZOFFSETTO:+0200
END:DAYLIGHT
END:VTIMEZONE
END:VCALENDAR
