BEGIN:VCALENDAR
VERSION:2.0
PRODID:-//Plone.org//NONSGML plone.app.event//EN
X-WR-TIMEZONE:Europe/Rome
BEGIN:VEVENT
SUMMARY:Seminario Prof. Cohen: "High Performance Reverse Osmosis Membranes
 "
DTSTART;TZID=Europe/Rome;VALUE=DATE-TIME:20150311T120000
DTEND;TZID=Europe/Rome;VALUE=DATE-TIME:20150311T140000
DTSTAMP;VALUE=DATE-TIME:20260421T042930Z
UID:d1278bb0c08c47dc8c1e7f390ceed858@dicam.unibo.it
CREATED;VALUE=DATE-TIME:20150309T112440Z
LAST-MODIFIED;VALUE=DATE-TIME:20150309T112516Z
URL:https://dicam.unibo.it/it/eventi/seminario-prof.-cohen-high-performanc
 e-reverse-osmosis-membranes
END:VEVENT
BEGIN:VTIMEZONE
TZID:Europe/Rome
X-LIC-LOCATION:Europe/Rome
BEGIN:STANDARD
DTSTART;VALUE=DATE-TIME:20141026T020000
TZNAME:CET
TZOFFSETFROM:+0200
TZOFFSETTO:+0100
END:STANDARD
END:VTIMEZONE
END:VCALENDAR
