BEGIN:VCALENDAR
VERSION:2.0
PRODID:-//Plone.org//NONSGML plone.app.event//EN
X-WR-TIMEZONE:Europe/Rome
BEGIN:VEVENT
SUMMARY:Seminario Prof. Dr. Javad Gholamnejad: “Open pit Design and Prod
 uction Scheduling”
DTSTART;TZID=Europe/Rome;VALUE=DATE-TIME:20190312T090000
DTEND;TZID=Europe/Rome;VALUE=DATE-TIME:20190312T110000
DTSTAMP;VALUE=DATE-TIME:20260426T021019Z
UID:7a12c2efc72746598d09df1cc4170228@dicam.unibo.it
CREATED;VALUE=DATE-TIME:20190311T103807Z
LAST-MODIFIED;VALUE=DATE-TIME:20190311T110926Z
URL:https://dicam.unibo.it/it/eventi/seminario-prof.-dr.-javad-gholamnejad
 -201copen-pit-design-and-production-scheduling201d
END:VEVENT
BEGIN:VTIMEZONE
TZID:Europe/Rome
X-LIC-LOCATION:Europe/Rome
BEGIN:STANDARD
DTSTART;VALUE=DATE-TIME:20181028T020000
TZNAME:CET
TZOFFSETFROM:+0200
TZOFFSETTO:+0100
END:STANDARD
END:VTIMEZONE
END:VCALENDAR
