BEGIN:VCALENDAR
VERSION:2.0
PRODID:-//Plone.org//NONSGML plone.app.event//EN
X-WR-TIMEZONE:Europe/Rome
BEGIN:VEVENT
SUMMARY:Seminario Prof. Dragoni: "Water management in Lake Trasimeno Area:
  from hand dug canals to modeling​"
DTSTART;VALUE=DATE:20160621
DTEND;VALUE=DATE:20160622
DTSTAMP;VALUE=DATE-TIME:20260421T053842Z
UID:e598f65b31e54edaa8c07dc0979a5911@dicam.unibo.it
CREATED;VALUE=DATE-TIME:20160609T063122Z
LAST-MODIFIED;VALUE=DATE-TIME:20160609T063239Z
URL:https://dicam.unibo.it/it/eventi/seminario-prof.-dragoni-water-managem
 ent-in-lake-trasimeno-area-from-hand-dug-canals-to-modeling200b
END:VEVENT
END:VCALENDAR
