BEGIN:VCALENDAR
VERSION:2.0
PRODID:-//Plone.org//NONSGML plone.app.event//EN
X-WR-TIMEZONE:Europe/Rome
BEGIN:VEVENT
SUMMARY:Seminario Prof. Farid Hammoud: "Examples of Landslides Encountered
  During the Construction of the East-West Highway in Algeria   "
DTSTART;VALUE=DATE:20160527
DTEND;VALUE=DATE:20160528
DTSTAMP;VALUE=DATE-TIME:20260421T100226Z
UID:b07e218309b841e78831ed37e4b72eb9@dicam.unibo.it
CREATED;VALUE=DATE-TIME:20160527T045533Z
LAST-MODIFIED;VALUE=DATE-TIME:20160527T045608Z
URL:https://dicam.unibo.it/it/eventi/seminario-prof.-farid-hammoud-example
 s-of-landslides-encountered-during-the-construction-of-the-east-west-highw
 ay-in-algeria
END:VEVENT
END:VCALENDAR
