BEGIN:VCALENDAR
VERSION:2.0
PRODID:-//Plone.org//NONSGML plone.app.event//EN
X-WR-TIMEZONE:Europe/Rome
BEGIN:VEVENT
SUMMARY:Seminario Prof. Feng: "The role of polyphenylene support in hetero
 geneous catalysis"
DTSTART;TZID=Europe/Rome;VALUE=DATE-TIME:20150427T113000
DTEND;TZID=Europe/Rome;VALUE=DATE-TIME:20150427T133000
DTSTAMP;VALUE=DATE-TIME:20260421T042701Z
UID:3c1d0ac568854fcab352478bd8f091ec@dicam.unibo.it
CREATED;VALUE=DATE-TIME:20150422T054154Z
LAST-MODIFIED;VALUE=DATE-TIME:20150422T054226Z
URL:https://dicam.unibo.it/it/eventi/seminario-prof.-feng-the-role-of-poly
 phenylene-support-in-heterogeneous-catalysis
END:VEVENT
BEGIN:VTIMEZONE
TZID:Europe/Rome
X-LIC-LOCATION:Europe/Rome
BEGIN:DAYLIGHT
DTSTART;VALUE=DATE-TIME:20150329T030000
TZNAME:CEST
TZOFFSETFROM:+0100
TZOFFSETTO:+0200
END:DAYLIGHT
END:VTIMEZONE
END:VCALENDAR
