BEGIN:VCALENDAR
VERSION:2.0
PRODID:-//Plone.org//NONSGML plone.app.event//EN
X-WR-TIMEZONE:Europe/Rome
BEGIN:VEVENT
SUMMARY:Seminario prof. Frédéric Nguyen: Data assimilation and environme
 ntal geophysics : perspectives in terms of hydrothermy and site cleaning.
DTSTART;TZID=Europe/Rome;VALUE=DATE-TIME:20151202T093000
DTEND;TZID=Europe/Rome;VALUE=DATE-TIME:20151202T110000
DTSTAMP;VALUE=DATE-TIME:20260421T080444Z
UID:3525ad3615334b25b969c0b09bb94629@dicam.unibo.it
CREATED;VALUE=DATE-TIME:20151130T101317Z
LAST-MODIFIED;VALUE=DATE-TIME:20151130T123956Z
URL:https://dicam.unibo.it/it/eventi/seminario-prof.-frederic-nguyen-data-
 assimilation-and-environmental-geophysics-perspectives-in-terms-of-hydroth
 ermy-and-site-cleaning
END:VEVENT
BEGIN:VTIMEZONE
TZID:Europe/Rome
X-LIC-LOCATION:Europe/Rome
BEGIN:STANDARD
DTSTART;VALUE=DATE-TIME:20151025T020000
TZNAME:CET
TZOFFSETFROM:+0200
TZOFFSETTO:+0100
END:STANDARD
END:VTIMEZONE
END:VCALENDAR
