BEGIN:VCALENDAR
VERSION:2.0
PRODID:-//Plone.org//NONSGML plone.app.event//EN
X-WR-TIMEZONE:Europe/Rome
BEGIN:VEVENT
SUMMARY:Seminario Prof. Freni: "Analisi dei danni da allagamento in ambien
 te urbano ai sensi della Direttiva EU 2007/60"
DTSTART;TZID=Europe/Rome;VALUE=DATE-TIME:20150908T143000
DTEND;TZID=Europe/Rome;VALUE=DATE-TIME:20150908T163000
DTSTAMP;VALUE=DATE-TIME:20260421T080443Z
UID:8ae485dd249645049cf33a214fcbf395@dicam.unibo.it
CREATED;VALUE=DATE-TIME:20150803T064318Z
LAST-MODIFIED;VALUE=DATE-TIME:20150803T064342Z
URL:https://dicam.unibo.it/it/eventi/seminario-prof.-freni-analisi-dei-dan
 ni-da-allagamento-in-ambiente-urbano-ai-sensi-della-direttiva-eu-2007-60
END:VEVENT
BEGIN:VTIMEZONE
TZID:Europe/Rome
X-LIC-LOCATION:Europe/Rome
BEGIN:DAYLIGHT
DTSTART;VALUE=DATE-TIME:20150329T030000
TZNAME:CEST
TZOFFSETFROM:+0100
TZOFFSETTO:+0200
END:DAYLIGHT
END:VTIMEZONE
END:VCALENDAR
