BEGIN:VCALENDAR
VERSION:2.0
PRODID:-//Plone.org//NONSGML plone.app.event//EN
X-WR-TIMEZONE:Europe/Rome
BEGIN:VEVENT
SUMMARY:Seminario Prof. Galeati: "La sicurezza idrologico-idraulica delle 
 opere di sbarramento"
DTSTART;TZID=Europe/Rome;VALUE=DATE-TIME:20150915T150000
DTEND;TZID=Europe/Rome;VALUE=DATE-TIME:20150915T170000
DTSTAMP;VALUE=DATE-TIME:20260421T080422Z
UID:f7070e14817740df9381537b815a00c7@dicam.unibo.it
CREATED;VALUE=DATE-TIME:20150803T064543Z
LAST-MODIFIED;VALUE=DATE-TIME:20150803T064605Z
URL:https://dicam.unibo.it/it/eventi/seminario-prof.-galeati-la-sicurezza-
 idrologico-idraulica-delle-opere-di-sbarramento
END:VEVENT
BEGIN:VTIMEZONE
TZID:Europe/Rome
X-LIC-LOCATION:Europe/Rome
BEGIN:DAYLIGHT
DTSTART;VALUE=DATE-TIME:20150329T030000
TZNAME:CEST
TZOFFSETFROM:+0100
TZOFFSETTO:+0200
END:DAYLIGHT
END:VTIMEZONE
END:VCALENDAR
