BEGIN:VCALENDAR
VERSION:2.0
PRODID:-//Plone.org//NONSGML plone.app.event//EN
X-WR-TIMEZONE:Europe/Rome
BEGIN:VEVENT
SUMMARY:Seminario Prof. Geurs: "Smartphones in Transport Research"
DTSTART;TZID=Europe/Rome;VALUE=DATE-TIME:20150716T110000
DTEND;TZID=Europe/Rome;VALUE=DATE-TIME:20150716T130000
DTSTAMP;VALUE=DATE-TIME:20260421T064532Z
UID:f68ac95d3e474b79bfe035d9b87f0e3a@dicam.unibo.it
CREATED;VALUE=DATE-TIME:20150708T045911Z
LAST-MODIFIED;VALUE=DATE-TIME:20150708T045941Z
URL:https://dicam.unibo.it/it/eventi/seminario-prof.-geurs-smartphones-in-
 transport-research
END:VEVENT
BEGIN:VTIMEZONE
TZID:Europe/Rome
X-LIC-LOCATION:Europe/Rome
BEGIN:DAYLIGHT
DTSTART;VALUE=DATE-TIME:20150329T030000
TZNAME:CEST
TZOFFSETFROM:+0100
TZOFFSETTO:+0200
END:DAYLIGHT
END:VTIMEZONE
END:VCALENDAR
