BEGIN:VCALENDAR
VERSION:2.0
PRODID:-//Plone.org//NONSGML plone.app.event//EN
X-WR-TIMEZONE:Europe/Rome
BEGIN:VEVENT
SUMMARY:Seminario Prof. Gurer: "Chip Sealed Road Pavements and Effects of 
 Construction. Parameters on Chip Sealed Pavement’s Performance"
DTSTART;TZID=Europe/Rome;VALUE=DATE-TIME:20150416T150000
DTEND;TZID=Europe/Rome;VALUE=DATE-TIME:20150416T170000
DTSTAMP;VALUE=DATE-TIME:20260421T061235Z
UID:0299363c7b634d16b81f6a20f9ce784c@dicam.unibo.it
CREATED;VALUE=DATE-TIME:20150413T091511Z
LAST-MODIFIED;VALUE=DATE-TIME:20150413T091600Z
URL:https://dicam.unibo.it/it/eventi/seminario-prof.-gurer-chip-sealed-roa
 d-pavements-and-effects-of-construction.-parameters-on-chip-sealed-pavemen
 t2019s-performance
END:VEVENT
BEGIN:VTIMEZONE
TZID:Europe/Rome
X-LIC-LOCATION:Europe/Rome
BEGIN:DAYLIGHT
DTSTART;VALUE=DATE-TIME:20150329T030000
TZNAME:CEST
TZOFFSETFROM:+0100
TZOFFSETTO:+0200
END:DAYLIGHT
END:VTIMEZONE
END:VCALENDAR
