BEGIN:VCALENDAR
VERSION:2.0
PRODID:-//Plone.org//NONSGML plone.app.event//EN
X-WR-TIMEZONE:Europe/Rome
BEGIN:VEVENT
SUMMARY:Seminario prof. Guven: "Prediction of Design Flood Discharge by St
 atistical Downscaling and General Circulation Models"
DTSTART;TZID=Europe/Rome;VALUE=DATE-TIME:20150623T160000
DTEND;TZID=Europe/Rome;VALUE=DATE-TIME:20150623T180000
DTSTAMP;VALUE=DATE-TIME:20260421T061235Z
UID:9906fff08061481cb83c18d06584ff23@dicam.unibo.it
CREATED;VALUE=DATE-TIME:20150619T100817Z
LAST-MODIFIED;VALUE=DATE-TIME:20150619T100836Z
URL:https://dicam.unibo.it/it/eventi/seminario-prof.-guven-prediction-of-d
 esign-flood-discharge-by-statistical-downscaling-and-general-circulation-m
 odels
END:VEVENT
BEGIN:VTIMEZONE
TZID:Europe/Rome
X-LIC-LOCATION:Europe/Rome
BEGIN:DAYLIGHT
DTSTART;VALUE=DATE-TIME:20150329T030000
TZNAME:CEST
TZOFFSETFROM:+0100
TZOFFSETTO:+0200
END:DAYLIGHT
END:VTIMEZONE
END:VCALENDAR
