BEGIN:VCALENDAR
VERSION:2.0
PRODID:-//Plone.org//NONSGML plone.app.event//EN
X-WR-TIMEZONE:Europe/Rome
BEGIN:VEVENT
SUMMARY:Seminario Prof. Guz: "Dissipative heating and thermal fatigue life
  prediction for structures containing piezoactive layers"
DTSTART;VALUE=DATE:20160711
DTEND;VALUE=DATE:20160712
DTSTAMP;VALUE=DATE-TIME:20260421T124857Z
UID:44286401ae65402bbadcfded87beda7a@dicam.unibo.it
CREATED;VALUE=DATE-TIME:20160704T115752Z
LAST-MODIFIED;VALUE=DATE-TIME:20160704T115838Z
URL:https://dicam.unibo.it/it/eventi/seminario-prof.-guz-dissipative-heati
 ng-and-thermal-fatigue-life-prediction-for-structures-containing-piezoacti
 ve-layers
END:VEVENT
END:VCALENDAR
