BEGIN:VCALENDAR
VERSION:2.0
PRODID:-//Plone.org//NONSGML plone.app.event//EN
X-WR-TIMEZONE:Europe/Rome
BEGIN:VEVENT
SUMMARY:Seminario Prof. Habibi: "Emerging Renewable Nanomaterials"
DTSTART;TZID=Europe/Rome;VALUE=DATE-TIME:20151124T150000
DTEND;TZID=Europe/Rome;VALUE=DATE-TIME:20151124T170000
DTSTAMP;VALUE=DATE-TIME:20260421T080020Z
UID:ce5316c217fd4cd6a82f0008444bf0c0@dicam.unibo.it
CREATED;VALUE=DATE-TIME:20151120T100822Z
LAST-MODIFIED;VALUE=DATE-TIME:20151120T100845Z
URL:https://dicam.unibo.it/it/eventi/seminario-prof.-habibi-emerging-renew
 able-nanomaterials
END:VEVENT
BEGIN:VTIMEZONE
TZID:Europe/Rome
X-LIC-LOCATION:Europe/Rome
BEGIN:STANDARD
DTSTART;VALUE=DATE-TIME:20151025T020000
TZNAME:CET
TZOFFSETFROM:+0200
TZOFFSETTO:+0100
END:STANDARD
END:VTIMEZONE
END:VCALENDAR
