BEGIN:VCALENDAR
VERSION:2.0
PRODID:-//Plone.org//NONSGML plone.app.event//EN
X-WR-TIMEZONE:Europe/Rome
BEGIN:VEVENT
SUMMARY:Seminario Prof. Haugen: "Operational Risk Analysis for Process Pla
 nts"
DTSTART;VALUE=DATE:20160517
DTEND;VALUE=DATE:20160518
DTSTAMP;VALUE=DATE-TIME:20260421T093748Z
UID:0e4ff713852349e7abec475c7ae4a9a2@dicam.unibo.it
CREATED;VALUE=DATE-TIME:20160511T112036Z
LAST-MODIFIED;VALUE=DATE-TIME:20160511T112108Z
URL:https://dicam.unibo.it/it/eventi/seminario-prof.-haugen-operational-ri
 sk-analysis-for-process-plants
END:VEVENT
END:VCALENDAR
