BEGIN:VCALENDAR
VERSION:2.0
PRODID:-//Plone.org//NONSGML plone.app.event//EN
X-WR-TIMEZONE:Europe/Rome
BEGIN:VEVENT
SUMMARY:Seminario Prof. Krammer: "Trends and Challenges in Gas Cleaning"
DTSTART;VALUE=DATE:20170516
DTEND;VALUE=DATE:20170517
DTSTAMP;VALUE=DATE-TIME:20260419T165145Z
UID:022ec1fa3f46408dae817e33b70b3f22@dicam.unibo.it
CREATED;VALUE=DATE-TIME:20170511T084304Z
LAST-MODIFIED;VALUE=DATE-TIME:20170511T084355Z
URL:https://dicam.unibo.it/it/eventi/seminario-prof.-krammer-trends-and-ch
 allenges-in-gas-cleaning
END:VEVENT
END:VCALENDAR
