BEGIN:VCALENDAR
VERSION:2.0
PRODID:-//Plone.org//NONSGML plone.app.event//EN
X-WR-TIMEZONE:Europe/Rome
BEGIN:VEVENT
SUMMARY:Seminario Prof. Kumar: "Polymer-Grafted Nanoparticle Membranes wit
 h Unusual Gas Separation Properties"
DTSTART;VALUE=DATE:20190415
DTEND;VALUE=DATE:20190416
DTSTAMP;VALUE=DATE-TIME:20260426T054239Z
UID:4419b9936bb348ddb4bf5085400ce983@dicam.unibo.it
CREATED;VALUE=DATE-TIME:20190404T093209Z
LAST-MODIFIED;VALUE=DATE-TIME:20190404T093245Z
URL:https://dicam.unibo.it/it/eventi/seminario-prof.-kumar-polymer-grafted
 -nanoparticle-membranes-with-unusual-gas-separation-properties
END:VEVENT
END:VCALENDAR
