BEGIN:VCALENDAR
VERSION:2.0
PRODID:-//Plone.org//NONSGML plone.app.event//EN
X-WR-TIMEZONE:Europe/Rome
BEGIN:VEVENT
SUMMARY:Seminario Prof. Lipscomb: "Can membrane processes help achieve ene
 rgy sustainability?"
DTSTART;TZID=Europe/Rome;VALUE=DATE-TIME:20150609T180000
DTEND;TZID=Europe/Rome;VALUE=DATE-TIME:20150609T190000
DTSTAMP;VALUE=DATE-TIME:20260421T061056Z
UID:eb49c98ccb9c47cb9fea2d08ca07de76@dicam.unibo.it
CREATED;VALUE=DATE-TIME:20150608T133731Z
LAST-MODIFIED;VALUE=DATE-TIME:20150608T133756Z
URL:https://dicam.unibo.it/it/eventi/seminario-prof.-lipscomb-can-membrane
 -processes-help-achieve-energy-sustainability
END:VEVENT
BEGIN:VTIMEZONE
TZID:Europe/Rome
X-LIC-LOCATION:Europe/Rome
BEGIN:DAYLIGHT
DTSTART;VALUE=DATE-TIME:20150329T030000
TZNAME:CEST
TZOFFSETFROM:+0100
TZOFFSETTO:+0200
END:DAYLIGHT
END:VTIMEZONE
END:VCALENDAR
