BEGIN:VCALENDAR
VERSION:2.0
PRODID:-//Plone.org//NONSGML plone.app.event//EN
X-WR-TIMEZONE:Europe/Rome
BEGIN:VEVENT
SUMMARY:Seminario Prof. Mannan: "Making Safety a Second Nature"
DTSTART;TZID=Europe/Rome;VALUE=DATE-TIME:20150326T110000
DTEND;TZID=Europe/Rome;VALUE=DATE-TIME:20150326T130000
DTSTAMP;VALUE=DATE-TIME:20260421T061845Z
UID:d3be1f44a4c84034b48912283753070b@dicam.unibo.it
CREATED;VALUE=DATE-TIME:20150323T105525Z
LAST-MODIFIED;VALUE=DATE-TIME:20150323T105609Z
URL:https://dicam.unibo.it/it/eventi/seminario-prof.-mannan-making-safety-
 a-second-nature
END:VEVENT
BEGIN:VTIMEZONE
TZID:Europe/Rome
X-LIC-LOCATION:Europe/Rome
BEGIN:STANDARD
DTSTART;VALUE=DATE-TIME:20141026T020000
TZNAME:CET
TZOFFSETFROM:+0200
TZOFFSETTO:+0100
END:STANDARD
END:VTIMEZONE
END:VCALENDAR
