BEGIN:VCALENDAR
VERSION:2.0
PRODID:-//Plone.org//NONSGML plone.app.event//EN
X-WR-TIMEZONE:Europe/Rome
BEGIN:VEVENT
SUMMARY:Seminario Prof. Maravelaki: "Nanomaterials for monument conservati
 on: applications as additives in mortars\, consolidants and self-cleaning 
 protectives"
DTSTART;VALUE=DATE:20161215
DTEND;VALUE=DATE:20161216
DTSTAMP;VALUE=DATE-TIME:20260421T125810Z
UID:a8aad91e973044d8a02d72b8d25d0ed3@dicam.unibo.it
CREATED;VALUE=DATE-TIME:20161207T134930Z
LAST-MODIFIED;VALUE=DATE-TIME:20161207T135000Z
URL:https://dicam.unibo.it/it/eventi/seminario-prof.-maravelaki-nanomateri
 als-for-monument-conservation-applications-as-additives-in-mortars-consoli
 dants-and-self-cleaning-protectives
END:VEVENT
END:VCALENDAR
