BEGIN:VCALENDAR
VERSION:2.0
PRODID:-//Plone.org//NONSGML plone.app.event//EN
X-WR-TIMEZONE:Europe/Rome
BEGIN:VEVENT
SUMMARY:Seminario Prof. Marini: "Il trattamento e la caratterizzazione del
 l'amianto. Aspetti tecnici ed ambientali"
DTSTART;TZID=Europe/Rome;VALUE=DATE-TIME:20160531T120000
DTEND;TZID=Europe/Rome;VALUE=DATE-TIME:20160531T140000
DTSTAMP;VALUE=DATE-TIME:20260421T100141Z
UID:bfcd9ae373be497a8119f37803852e83@dicam.unibo.it
CREATED;VALUE=DATE-TIME:20160527T082827Z
LAST-MODIFIED;VALUE=DATE-TIME:20160527T082853Z
URL:https://dicam.unibo.it/it/eventi/seminario-prof.-marini-il-trattamento
 -e-la-caratterizzazione-dellamianto.-aspetti-tecnici-ed-ambientali
END:VEVENT
BEGIN:VTIMEZONE
TZID:Europe/Rome
X-LIC-LOCATION:Europe/Rome
BEGIN:DAYLIGHT
DTSTART;VALUE=DATE-TIME:20160327T030000
TZNAME:CEST
TZOFFSETFROM:+0100
TZOFFSETTO:+0200
END:DAYLIGHT
END:VTIMEZONE
END:VCALENDAR
