BEGIN:VCALENDAR
VERSION:2.0
PRODID:-//Plone.org//NONSGML plone.app.event//EN
X-WR-TIMEZONE:Europe/Rome
BEGIN:VEVENT
SUMMARY:Seminario prof. Michael Birk: "Transportation and Storage of Hazar
 dous Materials: experimental data and modelling of BLEVE scenarios"
DTSTART;TZID=Europe/Rome;VALUE=DATE-TIME:20150410T110000
DTEND;TZID=Europe/Rome;VALUE=DATE-TIME:20150410T140000
DTSTAMP;VALUE=DATE-TIME:20260421T061321Z
UID:6badaec5430743dd9095ac9024ba3e18@dicam.unibo.it
CREATED;VALUE=DATE-TIME:20150408T054911Z
LAST-MODIFIED;VALUE=DATE-TIME:20150408T060130Z
URL:https://dicam.unibo.it/it/eventi/seminario-prof.-michael-birk-transpor
 tation-and-storage-of-hazardous-materials-experimental-data-and-modelling-
 of-bleve-scenarios
END:VEVENT
BEGIN:VTIMEZONE
TZID:Europe/Rome
X-LIC-LOCATION:Europe/Rome
BEGIN:DAYLIGHT
DTSTART;VALUE=DATE-TIME:20150329T030000
TZNAME:CEST
TZOFFSETFROM:+0100
TZOFFSETTO:+0200
END:DAYLIGHT
END:VTIMEZONE
END:VCALENDAR
