BEGIN:VCALENDAR
VERSION:2.0
PRODID:-//Plone.org//NONSGML plone.app.event//EN
X-WR-TIMEZONE:Europe/Rome
BEGIN:VEVENT
SUMMARY:Seminario Prof. Moshe: "Static Analysis for Vibration Problems"
DTSTART;TZID=Europe/Rome;VALUE=DATE-TIME:20150921T110000
DTEND;TZID=Europe/Rome;VALUE=DATE-TIME:20150921T130000
DTSTAMP;VALUE=DATE-TIME:20260421T045544Z
UID:9b3fbfead18f454f9f97c81d23f7d0a7@dicam.unibo.it
CREATED;VALUE=DATE-TIME:20150914T081500Z
LAST-MODIFIED;VALUE=DATE-TIME:20150914T081527Z
URL:https://dicam.unibo.it/it/eventi/seminario-prof.-moshe-static-analysis
 -for-vibration-problems
END:VEVENT
BEGIN:VTIMEZONE
TZID:Europe/Rome
X-LIC-LOCATION:Europe/Rome
BEGIN:DAYLIGHT
DTSTART;VALUE=DATE-TIME:20150329T030000
TZNAME:CEST
TZOFFSETFROM:+0100
TZOFFSETTO:+0200
END:DAYLIGHT
END:VTIMEZONE
END:VCALENDAR
