BEGIN:VCALENDAR
VERSION:2.0
PRODID:-//Plone.org//NONSGML plone.app.event//EN
X-WR-TIMEZONE:Europe/Rome
BEGIN:VEVENT
SUMMARY:Seminario Prof. Murat Elibol: "Statistical experimental optimizati
 on methods in engineering"
DTSTART;TZID=Europe/Rome;VALUE=DATE-TIME:20150624T110000
DTEND;TZID=Europe/Rome;VALUE=DATE-TIME:20150624T130000
DTSTAMP;VALUE=DATE-TIME:20260421T075754Z
UID:ee2a41080f6847d984667c4fdbd0b999@dicam.unibo.it
CREATED;VALUE=DATE-TIME:20150623T043604Z
LAST-MODIFIED;VALUE=DATE-TIME:20150623T043627Z
URL:https://dicam.unibo.it/it/eventi/seminario-prof.-murat-elibol-statisti
 cal-experimental-optimization-methods-in-engineering
END:VEVENT
BEGIN:VTIMEZONE
TZID:Europe/Rome
X-LIC-LOCATION:Europe/Rome
BEGIN:DAYLIGHT
DTSTART;VALUE=DATE-TIME:20150329T030000
TZNAME:CEST
TZOFFSETFROM:+0100
TZOFFSETTO:+0200
END:DAYLIGHT
END:VTIMEZONE
END:VCALENDAR
