BEGIN:VCALENDAR
VERSION:2.0
PRODID:-//Plone.org//NONSGML plone.app.event//EN
X-WR-TIMEZONE:Europe/Rome
BEGIN:VEVENT
SUMMARY:Seminario Prof. Nanni: "Role of cementitious materials in the next
  decade"
DTSTART;VALUE=DATE:20161220
DTEND;VALUE=DATE:20161221
DTSTAMP;VALUE=DATE-TIME:20260421T142738Z
UID:e36e771abbba4fd1a0b285dddcae80b4@dicam.unibo.it
CREATED;VALUE=DATE-TIME:20161215T104212Z
LAST-MODIFIED;VALUE=DATE-TIME:20161215T104811Z
URL:https://dicam.unibo.it/it/eventi/seminario-prof.-nanni-role-of-cementi
 tious-materials-in-the-next-decade
END:VEVENT
END:VCALENDAR
