BEGIN:VCALENDAR
VERSION:2.0
PRODID:-//Plone.org//NONSGML plone.app.event//EN
X-WR-TIMEZONE:Europe/Rome
BEGIN:VEVENT
SUMMARY:Seminario prof. Omar Pandoli: "Il bambù per una ingegneria sosten
 ibile" (MODIFICATA AULA)
DTSTART;TZID=Europe/Rome;VALUE=DATE-TIME:20180201T110000
DTEND;TZID=Europe/Rome;VALUE=DATE-TIME:20180201T130000
DTSTAMP;VALUE=DATE-TIME:20260426T054152Z
UID:a3b07a74303f4c878e57c8b37b5014a5@dicam.unibo.it
CREATED;VALUE=DATE-TIME:20180115T080929Z
LAST-MODIFIED;VALUE=DATE-TIME:20180131T132805Z
URL:https://dicam.unibo.it/it/eventi/seminario-prof.-pandoli-il-bambu-per-
 una-ingegneria-sostenibile
END:VEVENT
BEGIN:VTIMEZONE
TZID:Europe/Rome
X-LIC-LOCATION:Europe/Rome
BEGIN:STANDARD
DTSTART;VALUE=DATE-TIME:20171029T020000
TZNAME:CET
TZOFFSETFROM:+0200
TZOFFSETTO:+0100
END:STANDARD
END:VTIMEZONE
END:VCALENDAR
