BEGIN:VCALENDAR
VERSION:2.0
PRODID:-//Plone.org//NONSGML plone.app.event//EN
X-WR-TIMEZONE:Europe/Rome
BEGIN:VEVENT
SUMMARY:Seminario Prof. Penna: "Tracer-based investigations on water sourc
 es\, hydrological flow pathways and runoff generation in mountain catchmen
 ts"
DTSTART;VALUE=DATE:20160606
DTEND;VALUE=DATE:20160607
DTSTAMP;VALUE=DATE-TIME:20260421T100151Z
UID:74497080ee03411fb6c60713e7368632@dicam.unibo.it
CREATED;VALUE=DATE-TIME:20160603T055239Z
LAST-MODIFIED;VALUE=DATE-TIME:20160603T055456Z
URL:https://dicam.unibo.it/it/eventi/seminario-prof.-penna-tracer-based-in
 vestigations-on-water-sources-hydrological-flow-pathways-and-runoff-genera
 tion-in-mountain-catchments
END:VEVENT
END:VCALENDAR
