BEGIN:VCALENDAR
VERSION:2.0
PRODID:-//Plone.org//NONSGML plone.app.event//EN
X-WR-TIMEZONE:Europe/Rome
BEGIN:VEVENT
SUMMARY:Seminario Prof. Podestà: "Analisi limite dell'equilibrio per la v
 alutazione della vulnerabilità sismica dei meccanismi locali"
DTSTART;TZID=Europe/Rome;VALUE=DATE-TIME:20150508T094500
DTEND;TZID=Europe/Rome;VALUE=DATE-TIME:20150508T114500
DTSTAMP;VALUE=DATE-TIME:20260421T061334Z
UID:60215f7ff64247bb8be9011e0c4fca92@dicam.unibo.it
CREATED;VALUE=DATE-TIME:20150506T050006Z
LAST-MODIFIED;VALUE=DATE-TIME:20150506T050033Z
URL:https://dicam.unibo.it/it/eventi/seminario-prof.-podesta-analisi-limit
 e-dellequilibrio-per-la-valutazione-della-vulnerabilita-sismica-dei-meccan
 ismi-locali
END:VEVENT
BEGIN:VTIMEZONE
TZID:Europe/Rome
X-LIC-LOCATION:Europe/Rome
BEGIN:DAYLIGHT
DTSTART;VALUE=DATE-TIME:20150329T030000
TZNAME:CEST
TZOFFSETFROM:+0100
TZOFFSETTO:+0200
END:DAYLIGHT
END:VTIMEZONE
END:VCALENDAR
