BEGIN:VCALENDAR
VERSION:2.0
PRODID:-//Plone.org//NONSGML plone.app.event//EN
X-WR-TIMEZONE:Europe/Rome
BEGIN:VEVENT
SUMMARY:Seminario Prof. Sciarretta: "Masonry structures exposed to fire an
 d high temperatures"
DTSTART;VALUE=DATE:20191206
DTEND;VALUE=DATE:20191207
DTSTAMP;VALUE=DATE-TIME:20260425T174409Z
UID:6ff9557b53d84f42a46739938152b512@dicam.unibo.it
CREATED;VALUE=DATE-TIME:20191115T071228Z
LAST-MODIFIED;VALUE=DATE-TIME:20191115T071331Z
URL:https://dicam.unibo.it/it/eventi/seminario-prof.-sciarretta-masonry-st
 ructures-exposed-to-fire-and-high-temperatures
END:VEVENT
END:VCALENDAR
