BEGIN:VCALENDAR
VERSION:2.0
PRODID:-//Plone.org//NONSGML plone.app.event//EN
X-WR-TIMEZONE:Europe/Rome
BEGIN:VEVENT
SUMMARY:Seminario Prof. Soyed S. Mansouri: "Emerging Horizons for Process 
 Systems Engineering: Artificial Intelligence and Education"
DTSTART;TZID=Europe/Rome;VALUE=DATE-TIME:20190920T113000
DTEND;TZID=Europe/Rome;VALUE=DATE-TIME:20190920T123000
DTSTAMP;VALUE=DATE-TIME:20260424T200011Z
UID:7ab136d4132541c1a74b12280cdf2664@dicam.unibo.it
CREATED;VALUE=DATE-TIME:20190909T070155Z
LAST-MODIFIED;VALUE=DATE-TIME:20190909T070539Z
URL:https://dicam.unibo.it/it/eventi/seminario-prof.-soyed-s.-mansouri-eme
 rging-horizons-for-process-systems-engineering-artificial-intelligence-and
 -education
END:VEVENT
BEGIN:VTIMEZONE
TZID:Europe/Rome
X-LIC-LOCATION:Europe/Rome
BEGIN:DAYLIGHT
DTSTART;VALUE=DATE-TIME:20190331T030000
TZNAME:CEST
TZOFFSETFROM:+0100
TZOFFSETTO:+0200
END:DAYLIGHT
END:VTIMEZONE
END:VCALENDAR
