BEGIN:VCALENDAR
VERSION:2.0
PRODID:-//Plone.org//NONSGML plone.app.event//EN
X-WR-TIMEZONE:Europe/Rome
BEGIN:VEVENT
SUMMARY:Seminario Prof. Tartakovsky: "Quantitative Forecasting for Energy 
 Applications"
DTSTART;VALUE=DATE:20171130
DTEND;VALUE=DATE:20171201
DTSTAMP;VALUE=DATE-TIME:20260424T141640Z
UID:f1dc5f8862e74fd89695005f6af3bb5a@dicam.unibo.it
CREATED;VALUE=DATE-TIME:20171121T070647Z
LAST-MODIFIED;VALUE=DATE-TIME:20171121T070718Z
URL:https://dicam.unibo.it/it/eventi/seminario-prof.-tartakovsky-quantitat
 ive-forecasting-for-energy-applications
END:VEVENT
END:VCALENDAR
