BEGIN:VCALENDAR
VERSION:2.0
PRODID:-//Plone.org//NONSGML plone.app.event//EN
X-WR-TIMEZONE:Europe/Rome
BEGIN:VEVENT
SUMMARY:Seminario Prof. Usmani: "Simulation of the response of structures 
 to large fires"
DTSTART;TZID=Europe/Rome;VALUE=DATE-TIME:20150612T113000
DTEND;TZID=Europe/Rome;VALUE=DATE-TIME:20150612T133000
DTSTAMP;VALUE=DATE-TIME:20260421T061236Z
UID:1053feb4a8cb464f943095d93b9704f6@dicam.unibo.it
CREATED;VALUE=DATE-TIME:20150608T132323Z
LAST-MODIFIED;VALUE=DATE-TIME:20150608T132514Z
URL:https://dicam.unibo.it/it/eventi/seminario-prof.-usmani-simulation-of-
 the-response-of-structures-to-large-fires
END:VEVENT
BEGIN:VTIMEZONE
TZID:Europe/Rome
X-LIC-LOCATION:Europe/Rome
BEGIN:DAYLIGHT
DTSTART;VALUE=DATE-TIME:20150329T030000
TZNAME:CEST
TZOFFSETFROM:+0100
TZOFFSETTO:+0200
END:DAYLIGHT
END:VTIMEZONE
END:VCALENDAR
