BEGIN:VCALENDAR
VERSION:2.0
PRODID:-//Plone.org//NONSGML plone.app.event//EN
X-WR-TIMEZONE:Europe/Rome
BEGIN:VEVENT
SUMMARY:Seminario Prof. Woodward: "Predicting effect of extreme weather on
  the performance of surface course asphalt"
DTSTART;TZID=Europe/Rome;VALUE=DATE-TIME:20151126T170000
DTEND;TZID=Europe/Rome;VALUE=DATE-TIME:20151126T190000
DTSTAMP;VALUE=DATE-TIME:20260421T080423Z
UID:1ff2be68aa4d498c87fca394d5b8ef16@dicam.unibo.it
CREATED;VALUE=DATE-TIME:20151104T153837Z
LAST-MODIFIED;VALUE=DATE-TIME:20151104T153906Z
URL:https://dicam.unibo.it/it/eventi/seminario-prof.-woodward-predicting-e
 ffect-of-extreme-weather-on-the-performance-of-surface-course-asphalt
END:VEVENT
BEGIN:VTIMEZONE
TZID:Europe/Rome
X-LIC-LOCATION:Europe/Rome
BEGIN:STANDARD
DTSTART;VALUE=DATE-TIME:20151025T020000
TZNAME:CET
TZOFFSETFROM:+0200
TZOFFSETTO:+0100
END:STANDARD
END:VTIMEZONE
END:VCALENDAR
