BEGIN:VCALENDAR
VERSION:2.0
PRODID:-//Plone.org//NONSGML plone.app.event//EN
X-WR-TIMEZONE:Europe/Rome
BEGIN:VEVENT
SUMMARY:Seminario Prof.ssa Daghia: "Numerical homogenization techniques"
DTSTART;TZID=Europe/Rome;VALUE=DATE-TIME:20190502T140000
DTEND;TZID=Europe/Rome;VALUE=DATE-TIME:20190503T160000
DTSTAMP;VALUE=DATE-TIME:20260424T174050Z
UID:e7214479a8de4fe6b568aac9dc7eff05@dicam.unibo.it
CREATED;VALUE=DATE-TIME:20190403T131559Z
LAST-MODIFIED;VALUE=DATE-TIME:20190403T131733Z
URL:https://dicam.unibo.it/it/eventi/seminario-prof.ssa-daghia-numerical-h
 omogenization-techniques
END:VEVENT
BEGIN:VTIMEZONE
TZID:Europe/Rome
X-LIC-LOCATION:Europe/Rome
BEGIN:DAYLIGHT
DTSTART;VALUE=DATE-TIME:20190331T030000
TZNAME:CEST
TZOFFSETFROM:+0100
TZOFFSETTO:+0200
END:DAYLIGHT
END:VTIMEZONE
END:VCALENDAR
