BEGIN:VCALENDAR
VERSION:2.0
PRODID:-//Plone.org//NONSGML plone.app.event//EN
X-WR-TIMEZONE:Europe/Rome
BEGIN:VEVENT
SUMMARY:Seminario Proff. R. Bigler\, E. Luppi:  “Careers in Science & En
 gineering: Does Gender Matter?”   
DTSTART;TZID=Europe/Rome;VALUE=DATE-TIME:20180426T143000
DTEND;TZID=Europe/Rome;VALUE=DATE-TIME:20180426T163000
DTSTAMP;VALUE=DATE-TIME:20260426T030836Z
UID:039d953b39cb454b9d09304de1e01eff@dicam.unibo.it
CREATED;VALUE=DATE-TIME:20180420T065802Z
LAST-MODIFIED;VALUE=DATE-TIME:20180420T074742Z
URL:https://dicam.unibo.it/it/eventi/seminario-proff.-r.-bigler-e.-luppi-2
 01ccareers-in-science-engineering-does-gender-matter-201d
END:VEVENT
BEGIN:VTIMEZONE
TZID:Europe/Rome
X-LIC-LOCATION:Europe/Rome
BEGIN:DAYLIGHT
DTSTART;VALUE=DATE-TIME:20180325T030000
TZNAME:CEST
TZOFFSETFROM:+0100
TZOFFSETTO:+0200
END:DAYLIGHT
END:VTIMEZONE
END:VCALENDAR
