BEGIN:VCALENDAR
VERSION:2.0
PRODID:-//Plone.org//NONSGML plone.app.event//EN
X-WR-TIMEZONE:Europe/Rome
BEGIN:VEVENT
SUMMARY:Seminario su opportunità di finanziamento European Research Counc
 il (ERC)
DTSTART;VALUE=DATE:20160711
DTEND;VALUE=DATE:20160712
DTSTAMP;VALUE=DATE-TIME:20260421T110804Z
UID:cd72a95b10954ae5aefd95830869d8f2@dicam.unibo.it
CREATED;VALUE=DATE-TIME:20160705T050630Z
LAST-MODIFIED;VALUE=DATE-TIME:20160705T050755Z
URL:https://dicam.unibo.it/it/eventi/seminario-su-opportunita-di-finanziam
 ento-european-research-council-erc
END:VEVENT
END:VCALENDAR
