BEGIN:VCALENDAR
VERSION:2.0
PRODID:-//Plone.org//NONSGML plone.app.event//EN
X-WR-TIMEZONE:Europe/Rome
BEGIN:VEVENT
SUMMARY:Seminario: "The use of DEM-based approaches to derive a priori inf
 ormation on flood-prone areas"
DTSTART;VALUE=DATE:20170310
DTEND;VALUE=DATE:20170311
DTSTAMP;VALUE=DATE-TIME:20260421T161658Z
UID:c335278b4d1e475cbc1d2318b71811c6@dicam.unibo.it
CREATED;VALUE=DATE-TIME:20170303T102945Z
LAST-MODIFIED;VALUE=DATE-TIME:20170303T103018Z
URL:https://dicam.unibo.it/it/eventi/seminario-the-use-of-dem-based-approa
 ches-to-derive-a-priori-information-on-flood-prone-areas
END:VEVENT
END:VCALENDAR
