BEGIN:VCALENDAR
VERSION:2.0
PRODID:-//Plone.org//NONSGML plone.app.event//EN
X-WR-TIMEZONE:Europe/Rome
BEGIN:VEVENT
SUMMARY:Short course: Machine learning based risk analysis in industry
DTSTART;TZID=Europe/Rome;VALUE=DATE-TIME:20211014T093000
DTEND;TZID=Europe/Rome;VALUE=DATE-TIME:20211104T113000
DTSTAMP;VALUE=DATE-TIME:20260421T024925Z
UID:a8d4f67897344be6bcc69b9063f2954c@dicam.unibo.it
CREATED;VALUE=DATE-TIME:20211014T075552Z
DESCRIPTION:Seminars of Prof. Nicola Paltrinieri\, NTNU Trondheim and ISA 
 visiting fellowship at DICAM
LAST-MODIFIED;VALUE=DATE-TIME:20211014T075815Z
URL:https://dicam.unibo.it/it/eventi/short-course-machine-learning-based-r
 isk-analysis-in-industry
END:VEVENT
BEGIN:VTIMEZONE
TZID:Europe/Rome
X-LIC-LOCATION:Europe/Rome
BEGIN:DAYLIGHT
DTSTART;VALUE=DATE-TIME:20210328T030000
TZNAME:CEST
TZOFFSETFROM:+0100
TZOFFSETTO:+0200
END:DAYLIGHT
BEGIN:STANDARD
DTSTART;VALUE=DATE-TIME:20211031T020000
TZNAME:CET
TZOFFSETFROM:+0200
TZOFFSETTO:+0100
END:STANDARD
END:VTIMEZONE
END:VCALENDAR
