BEGIN:VCALENDAR
VERSION:2.0
PRODID:-//Plone.org//NONSGML plone.app.event//EN
X-WR-TIMEZONE:Europe/Rome
BEGIN:VEVENT
SUMMARY:Simple techniques for decontaminating N95 masks for reuse by healt
 hcare workers
DTSTART;TZID=Europe/Rome;VALUE=DATE-TIME:20230524T140000
DTEND;TZID=Europe/Rome;VALUE=DATE-TIME:20230524T170000
DTSTAMP;VALUE=DATE-TIME:20260421T061145Z
UID:5c06d84484f242a9ab0aeb0059c532cd@dicam.unibo.it
CREATED;VALUE=DATE-TIME:20230523T071641Z
DESCRIPTION:Dr Luciana Ghermandi del CONICET di Bariloche\, Argentina
LAST-MODIFIED;VALUE=DATE-TIME:20230523T072437Z
URL:https://dicam.unibo.it/it/eventi/simple-techniques-for-decontaminating
 -n95-masks-for-reuse-by-healthcare-workers
END:VEVENT
BEGIN:VTIMEZONE
TZID:Europe/Rome
X-LIC-LOCATION:Europe/Rome
BEGIN:DAYLIGHT
DTSTART;VALUE=DATE-TIME:20230326T030000
TZNAME:CEST
TZOFFSETFROM:+0100
TZOFFSETTO:+0200
END:DAYLIGHT
END:VTIMEZONE
END:VCALENDAR
